BEGIN:VCALENDAR
PRODID:-//AT Content Types//AT Event//EN
VERSION:1.0
BEGIN:VEVENT
DTSTART:20150725T130000Z
DTEND:20150725T210000Z
DCREATED:20150714T175246Z
UID:ATEvent-5ec641e5-194e-48ff-9a55-44d7ebb0dd5d
SEQUENCE:0
LAST-MODIFIED:20150714T175247Z
SUMMARY:SC Mounted Shooters schooling
LOCATION:FENCE Equestrian Side
PRIORITY:3
TRANSP:0
END:VEVENT
END:VCALENDAR
