BEGIN:VCALENDAR
PRODID:-//AT Content Types//AT Event//EN
VERSION:2.0
METHOD:PUBLISH
BEGIN:VEVENT
DTSTAMP:20260423T131018Z
CREATED:20151026T195326Z
UID:ATEvent-061fa992-3bb4-4200-ae97-cd2bd719799a
LAST-MODIFIED:20151026T195326Z
SUMMARY:SC Mounted Shooters
DTSTART:20160514T040000Z
DTEND:20160515T210000Z
LOCATION:FENCE Equestrian Side
CATEGORIES:Horse Show
CLASS:PUBLIC
END:VEVENT
END:VCALENDAR
