BEGIN:VCALENDAR
PRODID:-//AT Content Types//AT Event//EN
VERSION:1.0
BEGIN:VEVENT
DTSTART:20150503T180000Z
DTEND:20150503T193000Z
DCREATED:20150413T130516Z
UID:ATEvent-18ee8d2a-e866-4511-9650-516d23307c61
SEQUENCE:0
LAST-MODIFIED:20150413T135126Z
SUMMARY:Salamander Talk with Tim Lee
DESCRIPTION:Our next Nature program will feature Tim Lee and some of h
 is Salamanders! Tim is an interpretative ranger at Caesar's Head State
  Park in SC and he will be at FENCE on Sunday\, May 3 at 2PM. This wil
 l be a great program for the whole family.
LOCATION:Fence Center
PRIORITY:3
TRANSP:0
END:VEVENT
END:VCALENDAR
