BEGIN:VCALENDAR
PRODID:-//AT Content Types//AT Event//EN
VERSION:1.0
BEGIN:VEVENT
DTSTART:20200307T160000Z
DTEND:20200307T170000Z
DCREATED:20200208T030138Z
UID:ATEvent-097539b6be3b4eeebf8db7206427acba
SEQUENCE:0
LAST-MODIFIED:20200213T131852Z
SUMMARY:Salamanders of the Southern Appalachia
DESCRIPTION:Naturalist\, Tim Lee will give a presentation on Salamande
 rs.
LOCATION:FENCE center
PRIORITY:3
TRANSP:0
END:VEVENT
END:VCALENDAR
