BEGIN:VCALENDAR
PRODID:-//AT Content Types//AT Event//EN
VERSION:1.0
BEGIN:VEVENT
DTSTART:20170715T120000Z
DTEND:20170716T200000Z
DCREATED:20170524T124238Z
UID:ATEvent-9e34d234f72d412680e4919bb3e9bb69
SEQUENCE:0
LAST-MODIFIED:20170524T124238Z
SUMMARY:Roger Lauze Equine Emergency Rescue Clinic
PRIORITY:3
TRANSP:0
END:VEVENT
END:VCALENDAR
