BEGIN:VCALENDAR
PRODID:-//AT Content Types//AT Event//EN
VERSION:1.0
BEGIN:VEVENT
DTSTART:20200627T233000Z
DTEND:20200628T020000Z
DCREATED:20190724T163350Z
UID:ATEvent-9afc0b9756314958b390f629200a3e10
SEQUENCE:0
LAST-MODIFIED:20200521T160257Z
SUMMARY:Canceled - Rodeo will return 2021
PRIORITY:3
TRANSP:0
END:VEVENT
END:VCALENDAR
