BEGIN:VCALENDAR
PRODID:-//AT Content Types//AT Event//EN
VERSION:2.0
METHOD:PUBLISH
BEGIN:VEVENT
DTSTAMP:20260423T131242Z
CREATED:20230117T202402Z
UID:ATEvent-2fed3c00aa3d4457b4436a94779dd88a
LAST-MODIFIED:20231010T153345Z
SUMMARY:Roastin on the Ridge
DTSTART:20231125T170000Z
DTEND:20231125T210000Z
DESCRIPTION:This year marks our 5th year of Roastin on the Ridge. Tick
 ets are $60.  Each ticket includes oysters\, hearty chicken gumbo\, wi
 ne and beer. Live music will round out the afternoon with the festivit
 ies ending at 4 pm. \n\nProceeds benefit the many community programs o
 ffered by FENCE
LOCATION:FENCE Center
CATEGORIES:Family
CONTACT:Tracie Hanson\, 8288599021\, info@fence.org
CLASS:PUBLIC
END:VEVENT
END:VCALENDAR
