BEGIN:VCALENDAR
PRODID:-//AT Content Types//AT Event//EN
VERSION:2.0
METHOD:PUBLISH
BEGIN:VEVENT
DTSTAMP:20260423T131329Z
CREATED:20210122T182757Z
UID:ATEvent-19c3a76271ae4f2980ae875bf8bec439
LAST-MODIFIED:20211124T213842Z
SUMMARY:Sold out-Roastin on the Ridge
DTSTART:20211127T170000Z
DTEND:20211127T210000Z
DESCRIPTION:Ticket sales for this year have ended. If you missed out o
 n purchasing tickets for this year\, check back next year for this ann
 ual event. \n\nTake a break from the turkey leftovers and enjoy an aft
 ernoon of oysters\, chicken gumbo\, beer and wine on Saturday\, Novemb
 er 27th from 12 p.m. until 4 p.m.
LOCATION:FENCE Center
CATEGORIES:Family
CONTACT:Tracie Hanson\, 8288599021\, info@fence.org
CLASS:PUBLIC
END:VEVENT
END:VCALENDAR
