BEGIN:VCALENDAR
PRODID:-//AT Content Types//AT Event//EN
VERSION:2.0
METHOD:PUBLISH
BEGIN:VEVENT
DTSTAMP:20260423T114734Z
CREATED:20230117T201338Z
UID:ATEvent-515ddce6355c43e189077bfb7755ed04
LAST-MODIFIED:20230117T201338Z
SUMMARY:Rig Gig
DTSTART:20230916T160000Z
DTEND:20230916T230000Z
LOCATION:FENCE Equestrian Side
CATEGORIES:Family
CLASS:PUBLIC
END:VEVENT
END:VCALENDAR
