BEGIN:VCALENDAR
PRODID:-//AT Content Types//AT Event//EN
VERSION:1.0
BEGIN:VEVENT
DTSTART:20220917T190000Z
DTEND:20220918T010000Z
DCREATED:20211213T172851Z
UID:ATEvent-f9f9d4c0e675415ab501bc0685817266
SEQUENCE:0
LAST-MODIFIED:20220128T183054Z
SUMMARY:Rig Gig
LOCATION:Equestrian side
PRIORITY:3
TRANSP:0
END:VEVENT
END:VCALENDAR
