BEGIN:VCALENDAR
PRODID:-//AT Content Types//AT Event//EN
VERSION:2.0
METHOD:PUBLISH
BEGIN:VEVENT
DTSTAMP:20260423T142555Z
CREATED:20190123T134244Z
UID:ATEvent-47a66c94d9a4430fb943828a1621de11
LAST-MODIFIED:20190123T134245Z
SUMMARY:Regional Pony Club Clinic
DTSTART:20190809T120000Z
DTEND:20190811T210000Z
LOCATION:FENCE Equestrian Side
CATEGORIES:Clinic
CLASS:PUBLIC
END:VEVENT
END:VCALENDAR
