BEGIN:VCALENDAR
PRODID:-//AT Content Types//AT Event//EN
VERSION:1.0
BEGIN:VEVENT
DTSTART:20171106T140000Z
DTEND:20171106T150000Z
DCREATED:20170927T185213Z
UID:ATEvent-d8b00acfa2de42b9a63cb7a40aad78cb
SEQUENCE:0
LAST-MODIFIED:20170927T185213Z
SUMMARY:REFIT®
DESCRIPTION:REFIT® is a group exercise class which focuses on positiv
 ity\, health\, and community led by Debbi Ware. Classes are free and o
 pen to anyone regardless of age\, shape\, size\, or ability. Workouts 
 are choreographed to be fun with uplifting music and moves designed to
  get you toned\, flexing\, and your heart rate up.
LOCATION:FENCE Center
PRIORITY:3
TRANSP:0
END:VEVENT
END:VCALENDAR
