BEGIN:VCALENDAR
PRODID:-//AT Content Types//AT Event//EN
VERSION:2.0
METHOD:PUBLISH
BEGIN:VEVENT
DTSTAMP:20260423T170638Z
CREATED:20130821T145829Z
UID:ATEvent-0b7b4090-0124-4127-9130-d815ca15b725
LAST-MODIFIED:20130905T005842Z
SUMMARY:Friends of FENCE Hunter Pace has been Cancelled!
DTSTART:20130908T130000Z
DTEND:20130908T170000Z
DESCRIPTION:The Friends of FENCE Hunter Pace cancelled due to unsafe r
 iding conditions because of the continuous rain. Thank you for your co
 ntinued support.
LOCATION:EQ Side at FENCE
CATEGORIES:Clinic
CONTACT:Judith Kerns\, 828-859-5456
CLASS:PUBLIC
END:VEVENT
END:VCALENDAR
