BEGIN:VCALENDAR
PRODID:-//AT Content Types//AT Event//EN
VERSION:1.0
BEGIN:VEVENT
DTSTART:20251016T220000Z
DTEND:20251017T000000Z
DCREATED:20250619T160021Z
UID:ATEvent-a28d3f1caeee4ce39c6554a33959b02f
SEQUENCE:0
LAST-MODIFIED:20250619T160021Z
SUMMARY:Pumpkin Needle Felting
PRIORITY:3
TRANSP:0
END:VEVENT
END:VCALENDAR
