BEGIN:VCALENDAR
PRODID:-//AT Content Types//AT Event//EN
VERSION:2.0
METHOD:PUBLISH
BEGIN:VEVENT
DTSTAMP:20260423T114647Z
CREATED:20211213T173520Z
UID:ATEvent-a77a7c0129614272beefc0a03902759b
LAST-MODIFIED:20211213T173520Z
SUMMARY:PSJ
DTSTART:20221008T110000Z
DTEND:20221009T220000Z
LOCATION:Equestrian side
CATEGORIES:Horse Show
CLASS:PUBLIC
END:VEVENT
END:VCALENDAR
