BEGIN:VCALENDAR
PRODID:-//AT Content Types//AT Event//EN
VERSION:1.0
BEGIN:VEVENT
DTSTART:20151009T120000Z
DTEND:20151011T210000Z
DCREATED:20150114T191241Z
UID:ATEvent-3d0868fe-365d-438a-8d8a-51fb6d34298b
SEQUENCE:0
LAST-MODIFIED:20150714T180042Z
SUMMARY:PSJ Show
LOCATION:FENCE Equestrian Side
PRIORITY:3
TRANSP:0
END:VEVENT
END:VCALENDAR
