BEGIN:VCALENDAR
PRODID:-//AT Content Types//AT Event//EN
VERSION:1.0
BEGIN:VEVENT
DTSTART:20131012T120000Z
DTEND:20131013T210000Z
DCREATED:20130322T151830Z
UID:ATEvent-c81c6936-9215-4139-b9c2-2b87cf223aa0
SEQUENCE:0
LAST-MODIFIED:20130322T151830Z
SUMMARY:PSJ Show Jumping
LOCATION:FENCE EQ side
PRIORITY:3
TRANSP:0
END:VEVENT
END:VCALENDAR
