BEGIN:VCALENDAR
PRODID:-//AT Content Types//AT Event//EN
VERSION:2.0
METHOD:PUBLISH
BEGIN:VEVENT
DTSTAMP:20260423T114916Z
CREATED:20130315T205525Z
UID:ATEvent-285ccd17-bf87-4a12-a463-ac72326cfa77
LAST-MODIFIED:20130315T205525Z
SUMMARY:PSJ Show Jumping Show
DTSTART:20130803T120000Z
DTEND:20130804T210000Z
LOCATION:FENCE EQ side
CATEGORIES:Horse Show
CONTACT:Rick Cram
URL:http://www.psjshow.com
CLASS:PUBLIC
END:VEVENT
END:VCALENDAR
