BEGIN:VCALENDAR
PRODID:-//AT Content Types//AT Event//EN
VERSION:1.0
BEGIN:VEVENT
DTSTART:20261016T120000Z
DTEND:20261018T210000Z
DCREATED:20251217T183216Z
UID:ATEvent-77cf9c6647eb469284a58c2322c26762
SEQUENCE:0
LAST-MODIFIED:20251217T183407Z
SUMMARY:PSJ Show
PRIORITY:3
TRANSP:0
END:VEVENT
END:VCALENDAR
