BEGIN:VCALENDAR
PRODID:-//AT Content Types//AT Event//EN
VERSION:2.0
METHOD:PUBLISH
BEGIN:VEVENT
DTSTAMP:20260423T114733Z
CREATED:20251217T163232Z
UID:ATEvent-2fe808c8a0a049eb8e6a35b41341b941
LAST-MODIFIED:20251217T163232Z
SUMMARY:PSJ Show
DTSTART:20260501T120000Z
DTEND:20260503T210000Z
CATEGORIES:Horse Show
CLASS:PUBLIC
END:VEVENT
END:VCALENDAR
