BEGIN:VCALENDAR
PRODID:-//AT Content Types//AT Event//EN
VERSION:2.0
METHOD:PUBLISH
BEGIN:VEVENT
DTSTAMP:20260423T114852Z
CREATED:20210127T134735Z
UID:ATEvent-b22114a724ec4196842e26cee162b3cb
LAST-MODIFIED:20210127T135618Z
SUMMARY:PSJ Show
DTSTART:20211009T120000Z
DTEND:20211010T210000Z
LOCATION:FENCE Equestrian Side
CATEGORIES:Horse Show
URL:http://www.https://www.psjshows.com/
CLASS:PUBLIC
END:VEVENT
END:VCALENDAR
