BEGIN:VCALENDAR
PRODID:-//AT Content Types//AT Event//EN
VERSION:1.0
BEGIN:VEVENT
DTSTART:20121012T160000Z
DTEND:20121014T213000Z
DCREATED:20121001T150048Z
UID:ATEvent-c938386d-8cb7-41c3-8111-456a16a77c70
SEQUENCE:0
LAST-MODIFIED:20121001T150211Z
SUMMARY:PSJ Oktoberfest at FENCE
DESCRIPTION:Hunter/Jumper Show sponsored by PSJ Shows
LOCATION:EQ Side FENCE
PRIORITY:3
TRANSP:0
END:VEVENT
END:VCALENDAR
