BEGIN:VCALENDAR
PRODID:-//AT Content Types//AT Event//EN
VERSION:1.0
BEGIN:VEVENT
DTSTART:20181005T120000Z
DTEND:20181007T210000Z
DCREATED:20180116T162249Z
UID:ATEvent-070a367ed7a44b15a0c74ba725b36b47
SEQUENCE:0
LAST-MODIFIED:20180116T162249Z
SUMMARY:PSJ Oktoberfest
LOCATION:FENCE Equestrian Side
PRIORITY:3
TRANSP:0
END:VEVENT
END:VCALENDAR
