BEGIN:VCALENDAR
PRODID:-//AT Content Types//AT Event//EN
VERSION:1.0
BEGIN:VEVENT
DTSTART:20171006T120000Z
DTEND:20171008T210000Z
DCREATED:20170105T193301Z
UID:ATEvent-ad3554c4744c4736908764ab11f5bb15
SEQUENCE:0
LAST-MODIFIED:20170105T193302Z
SUMMARY:PSJ Horse Show
LOCATION:FENCE Equestrian Side
PRIORITY:3
TRANSP:0
END:VEVENT
END:VCALENDAR
