BEGIN:VCALENDAR
PRODID:-//AT Content Types//AT Event//EN
VERSION:2.0
METHOD:PUBLISH
BEGIN:VEVENT
DTSTAMP:20260423T115610Z
CREATED:20170105T191347Z
UID:ATEvent-d53de312fd024286a51a94419f8c684f
LAST-MODIFIED:20170105T191348Z
SUMMARY:PSJ Back to School Horse Show
DTSTART:20170804T120000Z
DTEND:20170806T210000Z
LOCATION:FENCE Equestrian Side
CATEGORIES:Horse Show
CLASS:PUBLIC
END:VEVENT
END:VCALENDAR
