BEGIN:VCALENDAR
PRODID:-//AT Content Types//AT Event//EN
VERSION:2.0
METHOD:PUBLISH
BEGIN:VEVENT
DTSTAMP:20260423T154227Z
CREATED:20170105T171302Z
UID:ATEvent-afc2ad5b34af49bd9ee883e32e288d19
LAST-MODIFIED:20170105T194640Z
SUMMARY:Project Wild Workshop
DTSTART:20170316T140000Z
DTEND:20170316T200000Z
LOCATION:FENCE Center
CATEGORIES:Training
CONTACT:Tracie Hanson\, 8288599021\, info@fence.org
CLASS:PUBLIC
END:VEVENT
END:VCALENDAR
