BEGIN:VCALENDAR
PRODID:-//AT Content Types//AT Event//EN
VERSION:1.0
BEGIN:VEVENT
DTSTART:20140802T120000Z
DTEND:20140803T210000Z
DCREATED:20140103T194521Z
UID:ATEvent-a7891046-74e5-4086-938e-e62994841e59
SEQUENCE:0
LAST-MODIFIED:20140103T194521Z
SUMMARY:Progressive Show Jumping
PRIORITY:3
TRANSP:0
END:VEVENT
END:VCALENDAR
