BEGIN:VCALENDAR
PRODID:-//AT Content Types//AT Event//EN
VERSION:1.0
BEGIN:VEVENT
DTSTART:20231007T120000Z
DTEND:20231008T210000Z
DCREATED:20230117T201909Z
UID:ATEvent-a7416e69079f4dc9b3074407d1548d9f
SEQUENCE:0
LAST-MODIFIED:20230117T201909Z
SUMMARY:Progressive Show Jumping
LOCATION:FENCE Equestrian Side
PRIORITY:3
TRANSP:0
END:VEVENT
END:VCALENDAR
