BEGIN:VCALENDAR
PRODID:-//AT Content Types//AT Event//EN
VERSION:2.0
METHOD:PUBLISH
BEGIN:VEVENT
DTSTAMP:20260423T141935Z
CREATED:20200110T212915Z
UID:ATEvent-89c3860be95747d79c75f2b90427edbd
LAST-MODIFIED:20200110T212915Z
SUMMARY:Progressive Show Jumping
DTSTART:20201003T120000Z
DTEND:20201004T210000Z
LOCATION:FENCE Equestrian Side
CATEGORIES:Horse Show
CLASS:PUBLIC
END:VEVENT
END:VCALENDAR
