BEGIN:VCALENDAR
PRODID:-//AT Content Types//AT Event//EN
VERSION:1.0
BEGIN:VEVENT
DTSTART:20191005T040000Z
DTEND:20191007T035500Z
DCREATED:20190205T162826Z
UID:ATEvent-39dd4ac4b41d4074a23a16decc00d12b
SEQUENCE:0
LAST-MODIFIED:20190221T153653Z
SUMMARY:Progressive Show Jumping
LOCATION:FENCE Equestrian Side
PRIORITY:3
TRANSP:0
END:VEVENT
END:VCALENDAR
