BEGIN:VCALENDAR
PRODID:-//AT Content Types//AT Event//EN
VERSION:2.0
METHOD:PUBLISH
BEGIN:VEVENT
DTSTAMP:20260423T130803Z
CREATED:20151112T152037Z
UID:ATEvent-e5a9697b-9059-4237-b0a7-0524dddb192b
LAST-MODIFIED:20151112T152037Z
SUMMARY:Progressive Show Jumping
DTSTART:20161014T120000Z
DTEND:20161016T210000Z
LOCATION:FENCE Equestrian Side
CATEGORIES:Horse Show
CONTACT:Rich Cram
CLASS:PUBLIC
END:VEVENT
END:VCALENDAR
