BEGIN:VCALENDAR
PRODID:-//AT Content Types//AT Event//EN
VERSION:1.0
BEGIN:VEVENT
DTSTART:20141011T120000Z
DTEND:20141012T210000Z
DCREATED:20140103T195247Z
UID:ATEvent-f8a42759-b1f0-4ec4-b0f8-b23dbbb3905a
SEQUENCE:0
LAST-MODIFIED:20140103T195247Z
SUMMARY:Progressive Show Jumping
LOCATION:FENCE EQ side
PRIORITY:3
TRANSP:0
END:VEVENT
END:VCALENDAR
