BEGIN:VCALENDAR
PRODID:-//AT Content Types//AT Event//EN
VERSION:1.0
BEGIN:VEVENT
DTSTART:20180406T120000Z
DTEND:20180407T210000Z
DCREATED:20180116T152043Z
UID:ATEvent-428e2b9450594e7c8ed0c74bae681670
SEQUENCE:0
LAST-MODIFIED:20180116T153639Z
SUMMARY:POWWOW
LOCATION:FENCE Equestrian Side
PRIORITY:3
TRANSP:0
END:VEVENT
END:VCALENDAR
