BEGIN:VCALENDAR
PRODID:-//AT Content Types//AT Event//EN
VERSION:1.0
BEGIN:VEVENT
DTSTART:20130518T120000Z
DTEND:20130519T210000Z
DCREATED:20130228T183319Z
UID:ATEvent-5aea2c3f-9bee-44ab-8667-97284d268a2e
SEQUENCE:0
LAST-MODIFIED:20130508T133738Z
SUMMARY:Pony Club Rally
DESCRIPTION:Pony Club is an incubator for our Olympic Equestrian athle
 tes. A high percentage of America’s world class riders came up throu
 gh the Pony Club ranks. The Pony Club system teaches children all aspe
 cts of horsemanship as well as nurturing responsibility\, accountabili
 ty\, self- confidence\,  self-esteem and much more.
LOCATION:FENCE EQ side
PRIORITY:3
TRANSP:0
END:VEVENT
END:VCALENDAR
