BEGIN:VCALENDAR
PRODID:-//AT Content Types//AT Event//EN
VERSION:2.0
METHOD:PUBLISH
BEGIN:VEVENT
DTSTAMP:20260421T093011Z
CREATED:20240104T205752Z
UID:ATEvent-5bc55172bc644b7783997ba570dbdcd7
LAST-MODIFIED:20240104T205752Z
SUMMARY:Pony Club Rally
DTSTART:20240504T120000Z
DTEND:20240505T210000Z
LOCATION:FENCE Equestrian Side
CATEGORIES:Horse Show
CLASS:PUBLIC
END:VEVENT
END:VCALENDAR
