BEGIN:VCALENDAR
PRODID:-//AT Content Types//AT Event//EN
VERSION:2.0
METHOD:PUBLISH
BEGIN:VEVENT
DTSTAMP:20260423T105718Z
CREATED:20190103T212238Z
UID:ATEvent-71825485f36a4ebdb87d8e21f331f85d
LAST-MODIFIED:20190103T212238Z
SUMMARY:Pony Club Rally
DTSTART:20190517T120000Z
DTEND:20190519T210000Z
LOCATION:FENCE Equestrian Side
CATEGORIES:Horse Show
CLASS:PUBLIC
END:VEVENT
END:VCALENDAR
