BEGIN:VCALENDAR
PRODID:-//AT Content Types//AT Event//EN
VERSION:2.0
METHOD:PUBLISH
BEGIN:VEVENT
DTSTAMP:20260423T115809Z
CREATED:20170830T153839Z
UID:ATEvent-055ba9ff9eab48e3a1755a7eec395829
LAST-MODIFIED:20170830T153839Z
SUMMARY:Pony Club Rally
DTSTART:20180518T120000Z
DTEND:20180520T210000Z
LOCATION:FENCE Equestrian Side
CATEGORIES:Horse Show
CLASS:PUBLIC
END:VEVENT
END:VCALENDAR
