BEGIN:VCALENDAR
PRODID:-//AT Content Types//AT Event//EN
VERSION:2.0
METHOD:PUBLISH
BEGIN:VEVENT
DTSTAMP:20260423T205326Z
CREATED:20170105T175548Z
UID:ATEvent-d248a401a0d345779b10545fa1d99a5c
LAST-MODIFIED:20170105T175549Z
SUMMARY:Pony Club Rally
DTSTART:20170519T120000Z
DTEND:20170521T210000Z
LOCATION:FENCE Equestrian Side
CATEGORIES:Horse Show
CLASS:PUBLIC
END:VEVENT
END:VCALENDAR
