BEGIN:VCALENDAR
PRODID:-//AT Content Types//AT Event//EN
VERSION:1.0
BEGIN:VEVENT
DTSTART:20160521T040000Z
DTEND:20160522T210000Z
DCREATED:20151026T195424Z
UID:ATEvent-d54c563f-d148-4f70-adcb-d64626351971
SEQUENCE:0
LAST-MODIFIED:20160511T150937Z
SUMMARY:Pony Club Rally
PRIORITY:3
TRANSP:0
END:VEVENT
END:VCALENDAR
