BEGIN:VCALENDAR
PRODID:-//AT Content Types//AT Event//EN
VERSION:1.0
BEGIN:VEVENT
DTSTART:20210320T120000Z
DTEND:20210321T190000Z
DCREATED:20210122T183517Z
UID:ATEvent-445082dc391944aa93cd7e96b3a09210
SEQUENCE:0
LAST-MODIFIED:20210122T183517Z
SUMMARY:Pony Club D Rally
LOCATION:FENCE Equestrian Side
PRIORITY:3
TRANSP:0
END:VEVENT
END:VCALENDAR
