BEGIN:VCALENDAR
PRODID:-//AT Content Types//AT Event//EN
VERSION:2.0
METHOD:PUBLISH
BEGIN:VEVENT
DTSTAMP:20260419T204114Z
CREATED:20130228T183026Z
UID:ATEvent-e4c70c58-b1e9-4a1a-9c78-5652d982ab3c
LAST-MODIFIED:20130429T201429Z
SUMMARY:Pony Club Cross Country School Day
DTSTART:20130505T120000Z
DTEND:20130505T210000Z
LOCATION:FENCE
CATEGORIES:Schooling
CONTACT:Margaret Crevar\, 919-710-2531\, margaret.crevar@sas.com
CLASS:PUBLIC
END:VEVENT
END:VCALENDAR
