BEGIN:VCALENDAR
PRODID:-//AT Content Types//AT Event//EN
VERSION:1.0
BEGIN:VEVENT
DTSTART:20170809T130000Z
DTEND:20170811T210000Z
DCREATED:20170524T130817Z
UID:ATEvent-14915e49c0ee49b5a4e3f77a3b6ab03b
SEQUENCE:0
LAST-MODIFIED:20170524T130817Z
SUMMARY:Pony Club Clinic
LOCATION:FENCE Equestrian Side
PRIORITY:3
TRANSP:0
END:VEVENT
END:VCALENDAR
