BEGIN:VCALENDAR
PRODID:-//AT Content Types//AT Event//EN
VERSION:1.0
BEGIN:VEVENT
DTSTART:20170624T120000Z
DTEND:20170627T210000Z
DCREATED:20170524T123844Z
UID:ATEvent-7e4c41b853b0430288b1fd19b665b2c2
SEQUENCE:0
LAST-MODIFIED:20170524T124018Z
SUMMARY:Pony Club Clinic
LOCATION:FENCE Equestrian Side
PRIORITY:3
TRANSP:0
END:VEVENT
END:VCALENDAR
