BEGIN:VCALENDAR
PRODID:-//AT Content Types//AT Event//EN
VERSION:1.0
BEGIN:VEVENT
DTSTART:20180623T120000Z
DTEND:20180624T210000Z
DCREATED:20180116T154847Z
UID:ATEvent-6a366c5469fb416080c886ea9541ca71
SEQUENCE:0
LAST-MODIFIED:20180116T155120Z
SUMMARY:Pony Club Camp
LOCATION:FENCE Equestrian Side
PRIORITY:3
TRANSP:0
END:VEVENT
END:VCALENDAR
