BEGIN:VCALENDAR
PRODID:-//AT Content Types//AT Event//EN
VERSION:2.0
METHOD:PUBLISH
BEGIN:VEVENT
DTSTAMP:20260423T120200Z
CREATED:20130304T165739Z
UID:ATEvent-5cfde1bb-6e1d-436c-a50a-726949f49411
LAST-MODIFIED:20130304T165739Z
SUMMARY:Polk Equine Emergency Rescue training with Roger Lauze
DTSTART:20130312T130000Z
DTEND:20130312T200000Z
DESCRIPTION:ROGER LAUZE CLINIC for PEER\n\nLARGE ANIMAL EMERGENCY RESC
 UE TECHNIQUES\n\nTO BE HELD AT FENCE   TUESDAY MARCH 12\, 2013\n\n9:00
  AM – 4:00  REGISTRATION AT 8:30 AM AT THE \n\nFENCE MAIN HOUSE
LOCATION:FENCE House
CONTACT:Judy Donlon\, foxfield@windstream.net
CLASS:PUBLIC
END:VEVENT
END:VCALENDAR
