BEGIN:VCALENDAR
PRODID:-//AT Content Types//AT Event//EN
VERSION:2.0
METHOD:PUBLISH
BEGIN:VEVENT
DTSTAMP:20260421T095609Z
CREATED:20211115T165202Z
UID:ATEvent-5a674f34c44849c381a30765c83069a5
LAST-MODIFIED:20211115T175527Z
SUMMARY:Poker Trail Ride
DTSTART:20211205T140000Z
DTEND:20211205T190000Z
LOCATION:Equestrian side
CATEGORIES:Horse Show
CONTACT:8288599021\, info@fence.org
CLASS:PUBLIC
END:VEVENT
END:VCALENDAR
