BEGIN:VCALENDAR
PRODID:-//AT Content Types//AT Event//EN
VERSION:2.0
METHOD:PUBLISH
BEGIN:VEVENT
DTSTAMP:20260423T142307Z
CREATED:20230117T191427Z
UID:ATEvent-df51b0195c5942fca6af8dfd59d33395
LAST-MODIFIED:20230202T201635Z
SUMMARY:CANCELED DUE TO RAIN - Poker Trail Ride
DTSTART:20230205T150000Z
DTEND:20230205T191500Z
DESCRIPTION:BEST 2 Hands Win - Cash Prize!!!\n$10 mulligans (2 card ex
 change)\nProtective headgear & current negative Coggins required\nThe 
 Poker Trail ride begins at FENCE Equestrian grounds\, and features the
  steeple chase course\, cross country course and water complex
LOCATION:FENCE Equestrian Side
CATEGORIES:Horse Show
CONTACT:Tracie Hanson\, 8288599021\, info@fence.org
CLASS:PUBLIC
END:VEVENT
END:VCALENDAR
