BEGIN:VCALENDAR
PRODID:-//AT Content Types//AT Event//EN
VERSION:2.0
METHOD:PUBLISH
BEGIN:VEVENT
DTSTAMP:20260423T114727Z
CREATED:20220910T222655Z
UID:ATEvent-893493b976ef4ae5817ab230aa5cbe94
LAST-MODIFIED:20221019T001549Z
SUMMARY:Pasta Making class
DTSTART:20221027T220000Z
DTEND:20221028T003000Z
DESCRIPTION:FENCE is excited to host their first pasta making class wi
 th Launa Tierney “the pasta lady” and face of Homemade Pasta Noodl
 es! Attendees will get to make their own homemade fettuccine to take h
 ome with them. After the hands-on portion of the class\, attendees wil
 l enjoy dinner featuring fettuccine with homemade tomato basil sauce\,
  salad\, local bread. This class is $55 per person to attend. All supp
 lies and ingredients are included in the $55 fee. \n \nDon’t miss ou
 t on this fun\, fettuccine making experience! Space is limited\, conta
 ct FENCE to register. Advance registration is required for this event.
  For more information or to register visit www.fence.org\, call 828-85
 9-9021\, or email info@fence.org.
LOCATION:FENCE Center
CATEGORIES:Family
CONTACT:828-859-9021\, info@fence.org
CLASS:PUBLIC
END:VEVENT
END:VCALENDAR
