BEGIN:VCALENDAR
PRODID:-//AT Content Types//AT Event//EN
VERSION:2.0
METHOD:PUBLISH
BEGIN:VEVENT
DTSTAMP:20260423T120556Z
CREATED:20150109T153608Z
UID:ATEvent-622b23db-000d-4c12-bc89-f82f733ccdab
LAST-MODIFIED:20150109T153609Z
SUMMARY:PARTNERSHIP WITH HORSES meeting held at FENCE
DTSTART:20150113T233000Z
DTEND:20150114T010000Z
DESCRIPTION:Ray Hunt\, master of true horsemanship through feel said â
 €œI'm here for the horse - to help him get a better deal".  With this 
 same philosophy\, Partnership with Horses was organized with the missi
 on to promote the physical and mental well being of horses by honoring
  their natural beauty and expression.
CATEGORIES:Family
CONTACT:Arlene\, 828-817-3979
CLASS:PUBLIC
END:VEVENT
END:VCALENDAR
