BEGIN:VCALENDAR
PRODID:-//AT Content Types//AT Event//EN
VERSION:1.0
BEGIN:VEVENT
DTSTART:20150310T223000Z
DTEND:20150311T000000Z
DCREATED:20150223T173345Z
UID:ATEvent-0d52d18e-d65d-478b-b77c-fb58c5af3aca
SEQUENCE:0
LAST-MODIFIED:20150223T173346Z
SUMMARY:Partnership for Horses
DESCRIPTION:Partnership with Horses is a group of people who are invol
 ved in various riding styles getting together to learn about the natur
 al way of horses to improve our relationships\, riding skills\, safety
 \, and care of them.  All methods of “natural horsemanship” are we
 lcomed.
LOCATION:Fence Center
PRIORITY:3
TRANSP:0
END:VEVENT
END:VCALENDAR
